BEGIN:VCALENDAR
VERSION:2.0
PRODID:-//Bed &amp; Breakfast De Vestingdriehoek - ECPv6.15.20//NONSGML v1.0//EN
CALSCALE:GREGORIAN
METHOD:PUBLISH
X-WR-CALNAME:Bed &amp; Breakfast De Vestingdriehoek
X-ORIGINAL-URL:https://devestingdriehoek.nl
X-WR-CALDESC:Evenementen voor Bed &amp; Breakfast De Vestingdriehoek
REFRESH-INTERVAL;VALUE=DURATION:PT1H
X-Robots-Tag:noindex
X-PUBLISHED-TTL:PT1H
BEGIN:VTIMEZONE
TZID:Europe/Helsinki
BEGIN:DAYLIGHT
TZOFFSETFROM:+0200
TZOFFSETTO:+0300
TZNAME:EEST
DTSTART:20200329T010000
END:DAYLIGHT
BEGIN:STANDARD
TZOFFSETFROM:+0300
TZOFFSETTO:+0200
TZNAME:EET
DTSTART:20201025T010000
END:STANDARD
BEGIN:DAYLIGHT
TZOFFSETFROM:+0200
TZOFFSETTO:+0300
TZNAME:EEST
DTSTART:20210328T010000
END:DAYLIGHT
BEGIN:STANDARD
TZOFFSETFROM:+0300
TZOFFSETTO:+0200
TZNAME:EET
DTSTART:20211031T010000
END:STANDARD
BEGIN:DAYLIGHT
TZOFFSETFROM:+0200
TZOFFSETTO:+0300
TZNAME:EEST
DTSTART:20220327T010000
END:DAYLIGHT
BEGIN:STANDARD
TZOFFSETFROM:+0300
TZOFFSETTO:+0200
TZNAME:EET
DTSTART:20221030T010000
END:STANDARD
END:VTIMEZONE
BEGIN:VEVENT
DTSTART;TZID=Europe/Helsinki:20211114T130000
DTEND;TZID=Europe/Helsinki:20211114T170000
DTSTAMP:20260421T134433
CREATED:20210916T084526Z
LAST-MODIFIED:20210916T084526Z
UID:471-1636894800-1636909200@devestingdriehoek.nl
SUMMARY:Culturele zondag
DESCRIPTION:Elke 2e zondag van de maand is er een culturele zondag met variabel aanbod. Er zijn niet alleen (vaste) locaties\, zoals galerieën\, kerken en musea\, maar ook activiteiten als muziek\, theater\, dans\, film\, workshops\, uitleen op wisselende of pop-up locaties.\nVia de website is de meest actuele deelnemerslijst te raadplegen. De deelnemers en locaties zijn herkenbaar aan een blauwe vlag.
URL:https://devestingdriehoek.nl/arrangement/culturele-zondag-5/
LOCATION:Binnenstad Gorinchem
END:VEVENT
BEGIN:VEVENT
DTSTART;TZID=Europe/Helsinki:20211010T130000
DTEND;TZID=Europe/Helsinki:20211010T170000
DTSTAMP:20260421T134433
CREATED:20210916T084148Z
LAST-MODIFIED:20210916T084148Z
UID:468-1633870800-1633885200@devestingdriehoek.nl
SUMMARY:Culturele zondag
DESCRIPTION:Elke 2e zondag van de maand is er een culturele zondag met variabel aanbod. Er zijn niet alleen (vaste) locaties\, zoals galerieën\, kerken en musea\, maar ook activiteiten als muziek\, theater\, dans\, film\, workshops\, uitleen op wisselende of pop-up locaties.\nVia de website is de meest actuele deelnemerslijst te raadplegen. De deelnemers en locaties zijn herkenbaar aan een blauwe vlag.
URL:https://devestingdriehoek.nl/arrangement/culturele-zondag-4/
LOCATION:Binnenstad Gorinchem
END:VEVENT
END:VCALENDAR