BEGIN:VCALENDAR
VERSION:2.0
PRODID:-//Bed &amp; Breakfast De Vestingdriehoek - ECPv6.15.20//NONSGML v1.0//EN
CALSCALE:GREGORIAN
METHOD:PUBLISH
X-WR-CALNAME:Bed &amp; Breakfast De Vestingdriehoek
X-ORIGINAL-URL:https://devestingdriehoek.nl
X-WR-CALDESC:Evenementen voor Bed &amp; Breakfast De Vestingdriehoek
REFRESH-INTERVAL;VALUE=DURATION:PT1H
X-Robots-Tag:noindex
X-PUBLISHED-TTL:PT1H
BEGIN:VTIMEZONE
TZID:Europe/Helsinki
BEGIN:DAYLIGHT
TZOFFSETFROM:+0200
TZOFFSETTO:+0300
TZNAME:EEST
DTSTART:20200329T010000
END:DAYLIGHT
BEGIN:STANDARD
TZOFFSETFROM:+0300
TZOFFSETTO:+0200
TZNAME:EET
DTSTART:20201025T010000
END:STANDARD
BEGIN:DAYLIGHT
TZOFFSETFROM:+0200
TZOFFSETTO:+0300
TZNAME:EEST
DTSTART:20210328T010000
END:DAYLIGHT
BEGIN:STANDARD
TZOFFSETFROM:+0300
TZOFFSETTO:+0200
TZNAME:EET
DTSTART:20211031T010000
END:STANDARD
BEGIN:DAYLIGHT
TZOFFSETFROM:+0200
TZOFFSETTO:+0300
TZNAME:EEST
DTSTART:20220327T010000
END:DAYLIGHT
BEGIN:STANDARD
TZOFFSETFROM:+0300
TZOFFSETTO:+0200
TZNAME:EET
DTSTART:20221030T010000
END:STANDARD
END:VTIMEZONE
BEGIN:VEVENT
DTSTART;TZID=Europe/Helsinki:20211010T160000
DTEND;TZID=Europe/Helsinki:20211010T180000
DTSTAMP:20260421T164935
CREATED:20210927T190626Z
LAST-MODIFIED:20210927T190626Z
UID:537-1633881600-1633888800@devestingdriehoek.nl
SUMMARY:Theaterconcert Onward - Tip Jar
DESCRIPTION:“Tip Jar maakt Americana voor gevorderden” (OOR)\nAls je echte\, ambachtelijke liedjes een warm hart toedraagt\, luister dan vooral eens naar Tip Jar. \nHet nieuwe vierde album Onward krijgt opnieuw geweldige recensies. Zo noemde muziekblad OOR Tip Jar dit jaar de beste americanaband van Nederland. “De plaat verovert je hart zodra je de eerste noten hoort. Alle nummers behalen hetzelfde hoge niveau. Een optelsom van echte instrumenten\, compacte songs uit het hart\, pakkende melodieën en een oprechtheid waar je als muziekliefhebber gretig U tegen zegt.” Musicmaker vindt het album “topklasse”\, volgens Lust for Life steekt Tip Jar “ver boven het maaiveld uit” en het Eindhovens Dagblad verbaasde zich erover “dat zulke authentieke rootsmuziek ‘gewoon’ uit Nederland komt”. \nBart de Win en Harry Hendriks waren gedurende 15 jaar Vaste Man bij Gerard van Maasakkers en bundelden samen met zangeres Arianne Knegt opnieuw hun krachten in Tip Jar\, dat het publiek aan de hand van hun melodieuze liedjes en de nodige anekdotes meeneemt over plattelandswegen en achterafstraatjes. Een trio onvervalste liefhebbers dat in hun muzikale dadendrang altijd kiest voor de onverwachte zijpaden. \nDe entree bedraagt € 12\,50 inclusief een consumptie en hapjestafel na afloop. De voorstelling begint om 16.00 en duurt ongeveer een uur\, kassa en foyer zijn een uur voor aanvang geopend. Wilt u bij bestelling van uw kaarten a.u.b. een telefoonnummer doorgeven voor eventuele wijzigingen en bron- en contactonderzoek.
URL:https://devestingdriehoek.nl/arrangement/theaterconcert-onward-tip-jar/
LOCATION:Theater Peeriscoop\, Boerenstraat 11 B\, Gorinchem\, 4201 GA
CATEGORIES:Muziek,Theater
END:VEVENT
BEGIN:VEVENT
DTSTART;TZID=Europe/Helsinki:20211003T193000
DTEND;TZID=Europe/Helsinki:20211003T213000
DTSTAMP:20260421T164935
CREATED:20210927T190246Z
LAST-MODIFIED:20210927T190246Z
UID:534-1633289400-1633296600@devestingdriehoek.nl
SUMMARY:Theatervoorstelling - Persoonlijke Verhalen van Oorlogsleed
DESCRIPTION:75 jaar na de Bevrijding zijn de begrippen oorlogsleed\, vervolging en vrijheid nog evenzeer aan de orde van de dag als tijdens de Tweede Wereldoorlog. In samenwerking met de Historische Vereniging Oud-Gorcum wordt een avond georganiseerd vol persoonlijke verhalen met een Gorcumse tintje: schrijfster\, journaliste en programmamaakster Judith Uyterlinde vertelt het verhaal van haar boek “De Vrouw Die Zegt Dat Ze Mijn Moeder is”\, een boeiende familiegeschiedenis van meerdere generaties. Haar grootmoeder\, Betje Elkerbout-Bloemendal\, was een joodse Gorcumse die die oorlog niet overleefde. \nTjitske Buwalda\, een dichteres met Gorcumse wortels\, neemt ons in haar poëzie mee naar het oorlogsverleden van haar familie. Dat het verhaal van oorlog en vrijheid niet ophield in 1945 wordt duidelijk gemaakt door Alghaith Alsamuraii\, bij de meeste mensen uit Gorcum beter bekend als Ray. Deze Syrisch-Iraakse jongen speelt een deel uit zijn voorstelling HOOP\, waarin zijn levensverhaal op meeslepende wijze de revue passeert. Op verschillende momenten tijdens deze avond is er Jiddische muziek van het Trio Uijterlinde (David\, Leah en Hannah) en voor het publiek is er bij de verschillende onderdelen gelegenheid tot het stellen van vragen. Fred Delfgaauw is de gastheer van deze bijzondere avond vol persoonlijke verhalen. \nDe voorstelling begint om 19.30 en de foyer en kassa zijn vanaf 18.45 uur geopend.\nEntree bedraagt slechts 5 euro en dit is inclusief een kop koffie of thee voor aanvang en een hapje na afloop.\nWilt u a.u.b. bij het bestellen van uw kaarten uw telefoonnummer vermelden voor eventuele wijzigingen en bron-en contactonderzoek.
URL:https://devestingdriehoek.nl/arrangement/theatervoorstelling-persoonlijke-verhalen-van-oorlogsleed/
LOCATION:Theater Peeriscoop\, Boerenstraat 11 B\, Gorinchem\, 4201 GA
CATEGORIES:Theater
END:VEVENT
END:VCALENDAR