BEGIN:VCALENDAR
VERSION:2.0
PRODID:-//Bed &amp; Breakfast De Vestingdriehoek - ECPv6.15.20//NONSGML v1.0//EN
CALSCALE:GREGORIAN
METHOD:PUBLISH
X-ORIGINAL-URL:https://devestingdriehoek.nl
X-WR-CALDESC:Evenementen voor Bed &amp; Breakfast De Vestingdriehoek
REFRESH-INTERVAL;VALUE=DURATION:PT1H
X-Robots-Tag:noindex
X-PUBLISHED-TTL:PT1H
BEGIN:VTIMEZONE
TZID:Europe/Helsinki
BEGIN:DAYLIGHT
TZOFFSETFROM:+0200
TZOFFSETTO:+0300
TZNAME:EEST
DTSTART:20200329T010000
END:DAYLIGHT
BEGIN:STANDARD
TZOFFSETFROM:+0300
TZOFFSETTO:+0200
TZNAME:EET
DTSTART:20201025T010000
END:STANDARD
BEGIN:DAYLIGHT
TZOFFSETFROM:+0200
TZOFFSETTO:+0300
TZNAME:EEST
DTSTART:20210328T010000
END:DAYLIGHT
BEGIN:STANDARD
TZOFFSETFROM:+0300
TZOFFSETTO:+0200
TZNAME:EET
DTSTART:20211031T010000
END:STANDARD
BEGIN:DAYLIGHT
TZOFFSETFROM:+0200
TZOFFSETTO:+0300
TZNAME:EEST
DTSTART:20220327T010000
END:DAYLIGHT
BEGIN:STANDARD
TZOFFSETFROM:+0300
TZOFFSETTO:+0200
TZNAME:EET
DTSTART:20221030T010000
END:STANDARD
END:VTIMEZONE
BEGIN:VEVENT
DTSTART;TZID=Europe/Helsinki:20211218T203000
DTEND;TZID=Europe/Helsinki:20211218T220000
DTSTAMP:20260421T134943
CREATED:20210927T185826Z
LAST-MODIFIED:20210927T185826Z
UID:532-1639859400-1639864800@devestingdriehoek.nl
SUMMARY:Theatervoorstelling De strijd der strijden. - Wedstrijdje
DESCRIPTION:Wedstrijdje is een improvisatie-voorstelling met komische\, ontroerende\, vrolijke en trieste liederen\, puntdichten en wat verder ter tafel komt. Johan Hoogeboom en Jan J. Pietersen putten uit hun uitgebreide repertoire. Ze zullen het opnemen tegen de drie heren van De Aimabele Schoften die zich niet zomaar gewonnen geven.
URL:https://devestingdriehoek.nl/arrangement/theatervoorstelling-de-strijd-der-strijden-wedstrijdje/
LOCATION:Theater De Nieuwe Doelen\, Haarstraat 64\, Gorinchem\, 4201 JD
CATEGORIES:Theater
END:VEVENT
BEGIN:VEVENT
DTSTART;TZID=Europe/Helsinki:20211217T203000
DTEND;TZID=Europe/Helsinki:20211217T220000
DTSTAMP:20260421T134943
CREATED:20210927T185630Z
LAST-MODIFIED:20210927T185630Z
UID:530-1639773000-1639778400@devestingdriehoek.nl
SUMMARY:Theatervoorstelling Wees blij - Marco Lopes
DESCRIPTION:In Wees Blij neemt Marco niet alleen zijn eigen mankementen onder de loep\, maar ook die van ons allemaal. Marco schiet van verwondering in verbazing en van ergernis naar haat en hij is er blij
URL:https://devestingdriehoek.nl/arrangement/theatervoorstelling-wees-blij-marco-lopes/
LOCATION:Theater De Nieuwe Doelen\, Haarstraat 64\, Gorinchem\, 4201 JD
CATEGORIES:Theater
END:VEVENT
BEGIN:VEVENT
DTSTART;TZID=Europe/Helsinki:20211211T203000
DTEND;TZID=Europe/Helsinki:20211211T220000
DTSTAMP:20260421T134943
CREATED:20210927T185438Z
LAST-MODIFIED:20210927T185438Z
UID:528-1639254600-1639260000@devestingdriehoek.nl
SUMMARY:Theatervoorstelling Onder Anderen - Oscar Arnold
DESCRIPTION:Oscar Arnold volgde een opleiding aan de Konings Theater Acade- mie\, stond in de halve finale van het Leids Cabaret Festival 2016\, is lid van de Knock Out Comedy Crew en was op televisie te zien op o.a. Holland’s Got Talent\, HumorTV en 101 Comedy.
URL:https://devestingdriehoek.nl/arrangement/theatervoorstelling-onder-anderen-oscar-arnold/
LOCATION:Theater De Nieuwe Doelen\, Haarstraat 64\, Gorinchem\, 4201 JD
CATEGORIES:Theater
END:VEVENT
BEGIN:VEVENT
DTSTART;TZID=Europe/Helsinki:20211210T203000
DTEND;TZID=Europe/Helsinki:20211210T220000
DTSTAMP:20260421T134943
CREATED:20210927T185218Z
LAST-MODIFIED:20210927T185218Z
UID:526-1639168200-1639173600@devestingdriehoek.nl
SUMMARY:Theatervoorstelling FCKED - Oldenhermanns
DESCRIPTION:FCKED is een klimaatcomedy om je groene vingers bij af te likken. Cabaret waarin we met lichte paniek samen lachen (en huilen) over wat ons te wachten staat. Trek je poncho en kaplaarzen aan\, want droog ga je het niet houden.
URL:https://devestingdriehoek.nl/arrangement/theatervoorstelling-fcked-oldenhermanns/
LOCATION:Theater De Nieuwe Doelen\, Haarstraat 64\, Gorinchem\, 4201 JD
CATEGORIES:Theater
END:VEVENT
BEGIN:VEVENT
DTSTART;TZID=Europe/Helsinki:20211204T203000
DTEND;TZID=Europe/Helsinki:20211204T220000
DTSTAMP:20260421T134943
CREATED:20210927T185004Z
LAST-MODIFIED:20210927T185004Z
UID:524-1638649800-1638655200@devestingdriehoek.nl
SUMMARY:Theatervoorstelling MEER - Kiki Schippers
DESCRIPTION:Met haar scherpe pen bijt ze zich vast in de actualiteit met satire voor radioprogramma Spijkers met Koppen\, columns en frisse liedjes voor televisieprogramma’s De Vooravond. Ze werd in vijf jaar tijd vier keer genomineerd voor het beste theaterlied en won de Annie M.G. Schmidtprijs met Er spoelen mensen aan.
URL:https://devestingdriehoek.nl/arrangement/theatervoorstelling-meer-kiki-schippers/
LOCATION:Theater De Nieuwe Doelen\, Haarstraat 64\, Gorinchem\, 4201 JD
CATEGORIES:Theater
END:VEVENT
BEGIN:VEVENT
DTSTART;TZID=Europe/Helsinki:20211203T203000
DTEND;TZID=Europe/Helsinki:20211203T220000
DTSTAMP:20260421T134943
CREATED:20210927T184741Z
LAST-MODIFIED:20210927T184741Z
UID:522-1638563400-1638568800@devestingdriehoek.nl
SUMMARY:Theatervoorstelling TaBoe! - Nesim el Ahmadi
DESCRIPTION:Hoe is het om de zoon van een vluchteling te zijn? De zoektocht naar zijn geloof\, op jonge leeftijd trouwen met een christelijk vrouw en zelf moslim zijn. Een haartransplantatie op je 23e\, de ontvoering van zijn vrouw of hoe het is om vast te zitten in een cel.
URL:https://devestingdriehoek.nl/arrangement/theatervoorstelling-taboe-nesim-el-ahmadi/
LOCATION:Theater De Nieuwe Doelen\, Haarstraat 64\, Gorinchem\, 4201 JD
CATEGORIES:Theater
END:VEVENT
BEGIN:VEVENT
DTSTART;TZID=Europe/Helsinki:20211126T203000
DTEND;TZID=Europe/Helsinki:20211126T220000
DTSTAMP:20260421T134943
CREATED:20210927T184509Z
LAST-MODIFIED:20210927T184509Z
UID:520-1637958600-1637964000@devestingdriehoek.nl
SUMMARY:Theatervoorstelling Lichtgeraakt - Lotte Velvet
DESCRIPTION:Lotte Velvet (1984) won in 2020 met haar voorstelling Ondergrond de jury- en publieksprijs van het Amsterdams Kleinkunst Festival. Door middel van muziek\, spoken word en personages geeft zij een stem aan mensen die ook worstelen met de wereld en controle proberen te houden over de huidige veranderende omstandigheden.
URL:https://devestingdriehoek.nl/arrangement/theatervoorstelling-lichtgeraakt-lotte-velvet/
LOCATION:Theater De Nieuwe Doelen\, Haarstraat 64\, Gorinchem\, 4201 JD
CATEGORIES:Theater
END:VEVENT
BEGIN:VEVENT
DTSTART;TZID=Europe/Helsinki:20211119T203000
DTEND;TZID=Europe/Helsinki:20211119T220000
DTSTAMP:20260421T134943
CREATED:20210927T184319Z
LAST-MODIFIED:20210927T184319Z
UID:518-1637353800-1637359200@devestingdriehoek.nl
SUMMARY:Theatervoorstelling Hoe overleef ik de kerst show - Op sterk water
DESCRIPTION:Op Sterk Water is al twintig jaar een begrip in de Nederlandse theaters. Ze zijn dé toonaangevende improvisatiecabaretiers van Nederland. Hilarische en muzikale improvisaties volgen elkaar in rap tempo op. Geen avond is hetzelfde\, altijd uniek en van hoog niveau!
URL:https://devestingdriehoek.nl/arrangement/theatervoorstelling-hoe-overleef-ik-de-kerst-show-op-sterk-water/
LOCATION:Theater De Nieuwe Doelen\, Haarstraat 64\, Gorinchem\, 4201 JD
CATEGORIES:Theater
END:VEVENT
BEGIN:VEVENT
DTSTART;TZID=Europe/Helsinki:20211119T170000
DTEND;TZID=Europe/Helsinki:20211121T210000
DTSTAMP:20260421T134943
CREATED:20211024T125311Z
LAST-MODIFIED:20211024T125311Z
UID:575-1637341200-1637528400@devestingdriehoek.nl
SUMMARY:Winter Food Festijn
DESCRIPTION:Op de meest ideale plek voor een mini-festival: Buiten de Waterpoort. Nog geen 500 meter van onze B&B vandaan (en een paar gezellige kroegen voor de afterparty).\nOpeningstijden: vrijdag van 17:00 tot 21:00\, zaterdag en zondag van 12:00 tot 21:00
URL:https://devestingdriehoek.nl/arrangement/winter-food-festijn/
LOCATION:Buiten de Waterpoort\, Buiten de Waterpoort\, Gorinchem\, Nederland
CATEGORIES:Eten & drinken,Festival
END:VEVENT
BEGIN:VEVENT
DTSTART;TZID=Europe/Helsinki:20211113T203000
DTEND;TZID=Europe/Helsinki:20211113T220000
DTSTAMP:20260421T134943
CREATED:20210927T184056Z
LAST-MODIFIED:20210927T184056Z
UID:516-1636835400-1636840800@devestingdriehoek.nl
SUMMARY:Theatervoorstelling Scheepers prikt door - Rob Scheepers
DESCRIPTION:Een oudjaars conference van Rob\, Zet je schrap voor een avond vol grapjes/overpeinzingen/gejank* over alles wat 2021 maakte tot wat het was; een topjaar/tussenjaar/schijtjaar*\, én over de welvaart/onzekerheid/crisis* die ons in 2022 nog te wachten staat. * Doorhalen wat niet van toepassing is. Want Rob heeft natuurlijk ook nog geen flauw idee waar het allemaal naartoe gaat…
URL:https://devestingdriehoek.nl/arrangement/theatervoorstelling-scheepers-prikt-door-rob-scheepers/
LOCATION:Theater De Nieuwe Doelen\, Haarstraat 64\, Gorinchem\, 4201 JD
CATEGORIES:Theater
END:VEVENT
BEGIN:VEVENT
DTSTART;TZID=Europe/Helsinki:20211106T203000
DTEND;TZID=Europe/Helsinki:20211106T220000
DTSTAMP:20260421T134943
CREATED:20210927T183803Z
LAST-MODIFIED:20210927T183803Z
UID:514-1636230600-1636236000@devestingdriehoek.nl
SUMMARY:Theatervoorstelling Herboren - Thijs Kemperink
DESCRIPTION:Thijs is een positieve jongen.Echter\, zonder die dieptepunten geen licht aan het eind van de tunnel. Dus treedt Thijs het nieuwe jaar herboren tegemoet met frisse energie\, ongenadig veel grappen en een groot brok positiviteit.
URL:https://devestingdriehoek.nl/arrangement/theatervoorstelling-herboren-thijs-kemperink/
LOCATION:Theater De Nieuwe Doelen\, Haarstraat 64\, Gorinchem\, 4201 JD
CATEGORIES:Theater
END:VEVENT
BEGIN:VEVENT
DTSTART;TZID=Europe/Helsinki:20211105T203000
DTEND;TZID=Europe/Helsinki:20211105T220000
DTSTAMP:20260421T134943
CREATED:20210927T183529Z
LAST-MODIFIED:20210927T183529Z
UID:512-1636144200-1636149600@devestingdriehoek.nl
SUMMARY:Theatervoorstelling Lonely Pony - Anne en Lisa
DESCRIPTION:Ditmaal wurmen antiheldinnen Anne & Lisa zich in LONELY PONY; een avondvullend Trojaans hobbelpaard dat zowel strijdlustig alsook aaibaar en ontwapenend doordendert. Tijdens deze surrealistische rit wordt de toeschouwer medeplichtig aan situaties die absoluut geen dikke pluim van de juf verdienen. Heerlijk absurd en muzikaal maar tevens actueler dan ooit\, LONELY PONY zal u een avond redden van het alledaagse!
URL:https://devestingdriehoek.nl/arrangement/theatervoorstelling-lonely-pony-anne-en-lisa/
LOCATION:Theater De Nieuwe Doelen\, Haarstraat 64\, Gorinchem\, 4201 JD
CATEGORIES:Theater
END:VEVENT
BEGIN:VEVENT
DTSTART;TZID=Europe/Helsinki:20211030T203000
DTEND;TZID=Europe/Helsinki:20211030T220000
DTSTAMP:20260421T134943
CREATED:20210927T183250Z
LAST-MODIFIED:20210927T183250Z
UID:510-1635625800-1635631200@devestingdriehoek.nl
SUMMARY:Theatervoorstelling Best of - Tobi Kooiman
DESCRIPTION:Tobi Kooiman strooit met een spervuur aan grappen\, die bijna allemaal raak zijn. Een waar feest voor de theaterbezoeker. Aldus de jury van Cameretten. Een uitverkocht Oude Luxor Theater bekroonde hem dan ook met de Publieksprijs.
URL:https://devestingdriehoek.nl/arrangement/theatervoorstelling-best-of-tobi-kooiman/
CATEGORIES:Theater
END:VEVENT
BEGIN:VEVENT
DTSTART;TZID=Europe/Helsinki:20211029T203000
DTEND;TZID=Europe/Helsinki:20211029T220000
DTSTAMP:20260421T134943
CREATED:20210927T183044Z
LAST-MODIFIED:20210927T183044Z
UID:508-1635539400-1635544800@devestingdriehoek.nl
SUMMARY:Theatervoorstelling Oppasopa - Rik Hoogendoorn
DESCRIPTION:In Oppasopa wordt menig kritische noot gekraakt over de helikopterouders van nu en maakt de kleinzoon kennis met de normen en waarden van zowel zijn groot- als overgrootouders.
URL:https://devestingdriehoek.nl/arrangement/theatervoorstelling-oppasopa-rik-hoogendoorn/
CATEGORIES:Theater
END:VEVENT
BEGIN:VEVENT
DTSTART;TZID=Europe/Helsinki:20211023T203000
DTEND;TZID=Europe/Helsinki:20211023T220000
DTSTAMP:20260421T134943
CREATED:20210927T182413Z
LAST-MODIFIED:20210927T182447Z
UID:506-1635021000-1635026400@devestingdriehoek.nl
SUMMARY:Theatervoorstelling Camaretten - Try out finalisten
DESCRIPTION:Laat je vanavond weer verrassen door weer een andere nieuwe lichting cabaretiers die zich klaarstoomt voor de zinderende halve finale. Mis het niet en volg de halve finalisten in hun strijd om de felbegeerde winst van het oudste cabaretfestival van Nederland!
URL:https://devestingdriehoek.nl/arrangement/theatervoorstelling-camaretten-try-out-finalisten/
LOCATION:Theater De Nieuwe Doelen\, Haarstraat 64\, Gorinchem\, 4201 JD
CATEGORIES:Theater
END:VEVENT
BEGIN:VEVENT
DTSTART;TZID=Europe/Helsinki:20211015T203000
DTEND;TZID=Europe/Helsinki:20211015T220000
DTSTAMP:20260421T134943
CREATED:20210927T182143Z
LAST-MODIFIED:20210927T182143Z
UID:504-1634329800-1634335200@devestingdriehoek.nl
SUMMARY:Theatervoorstelling Broeden - Grof Geschud
DESCRIPTION:Wees getuige van een hilarische en ontroerende poging van deze ex-geliefden om zichzelf te verlossen van de verpletterende angst om verlaten te zijn. Een poging die duizend beelden krijgt in verhalen\, nummers en scenes. Verbeelding als laatste reddingsboei.
URL:https://devestingdriehoek.nl/arrangement/theatervoorstelling-broeden-grof-geschud/
LOCATION:Theater De Nieuwe Doelen\, Haarstraat 64\, Gorinchem\, 4201 JD
CATEGORIES:Theater
END:VEVENT
BEGIN:VEVENT
DTSTART;TZID=Europe/Helsinki:20211008T203000
DTEND;TZID=Europe/Helsinki:20211008T220000
DTSTAMP:20260421T134943
CREATED:20210927T181851Z
LAST-MODIFIED:20210927T181851Z
UID:502-1633725000-1633730400@devestingdriehoek.nl
SUMMARY:Theatervoorstelling Met z'n allen - Lisa Ostermann
DESCRIPTION:Locatie: De Nieuwe Doelen\nLisa Ostermann won in 2020 alle prijzen op het Leids Cabaret Festival.’Met z’n allen’ gaat over het enthousiasme\, de wanhoop en de hulpmiddelen waarmee we de sfeer erin proberen te houden. En over hoe weinig de sfeer zich daarvan aantrekt.
URL:https://devestingdriehoek.nl/arrangement/theatervoorstelling-met-zn-allen-lisa-ostermann/
LOCATION:Theater De Nieuwe Doelen\, Haarstraat 64\, Gorinchem\, 4201 JD
CATEGORIES:Theater
END:VEVENT
BEGIN:VEVENT
DTSTART;TZID=Europe/Helsinki:20211002T203000
DTEND;TZID=Europe/Helsinki:20211002T220000
DTSTAMP:20260421T134943
CREATED:20210927T181537Z
LAST-MODIFIED:20210927T182745Z
UID:500-1633206600-1633212000@devestingdriehoek.nl
SUMMARY:Theatervoorstelling Gestampte Meisjes - Lext Nevel
DESCRIPTION:Locatie: De Nieuwe Doelen\nNiets blijkt goed genoeg\, dus vergeet al die goeroes\, stop met het lezen van zelfhulpboeken en laat die ted-talk-experts maar kletsen. Echter dan dit krijg je het niet. De Gestampte Meisjes laten je de waarheid zien: de worstelende\, hijgende\, eerzuchtige mens in al zijn glorie.
URL:https://devestingdriehoek.nl/arrangement/theatervoorstelling-gestampte-meisjes-lext-nevel/
CATEGORIES:Theater
END:VEVENT
BEGIN:VEVENT
DTSTART;TZID=Europe/Helsinki:20211001T203000
DTEND;TZID=Europe/Helsinki:20211001T220000
DTSTAMP:20260421T134943
CREATED:20210927T181132Z
LAST-MODIFIED:20210927T182617Z
UID:497-1633120200-1633125600@devestingdriehoek.nl
SUMMARY:Voorstelling De Situatie - Martijn Kardol
DESCRIPTION:Locatie: De Nieuwe Doelen\nDames en heren\, we zitten met een situatie. En situaties moeten worden opgelost. Maar hoe? En door wie? Is er iemand in de zaal die zich geroepen voelt om de situatie aan te pakken? Of ben ik dat zelf? En wat is eigenlijk die hele situatie waar we het over hebben? En wie is er verantwoordelijk voor?
URL:https://devestingdriehoek.nl/arrangement/voorstelling-de-situatie-martijn-kardol/
LOCATION:Theater De Nieuwe Doelen\, Haarstraat 64\, Gorinchem\, 4201 JD
CATEGORIES:Theater
END:VEVENT
END:VCALENDAR